BEGIN:VCALENDAR
VERSION:2.0
PRODID:-//Library Market//iCal Export//EN
BEGIN:VEVENT
SUMMARY:&quot;Tea-Rex&quot; Tea Party!
UID:12336
DTSTAMP:20260422T130500Z
DTSTART:20260627T150000Z
DTEND:20260627T160000Z
LOCATION:445 Center New Texas Rd, Pittsburgh, PA 15239, United States
ROOM: Program Room
DESCRIPTION:Join Liz Aquino from the Good Manners Group for a delightful 
 Tea-Rex Tea Party”! 🦖🍵Children will enjoy a fun, interactive exp
 erience while learning essential table manners and etiquette in a playful,
  engaging setting.Please register each child attending.
URL:https://plumlib.librarycalendar.com/event/tea-rex-tea-party-12336
END:VEVENT
END:VCALENDAR
