BEGIN:VCALENDAR
VERSION:2.0
PRODID:-//Library Market//iCal Export//EN
BEGIN:VEVENT
SUMMARY:Summer Reading Kickoff Event!
UID:12335
DTSTAMP:20260422T043600Z
DTSTART:20260606T150000Z
DTEND:20260606T170000Z
LOCATION:445 Center New Texas Rd, Pittsburgh, PA 15239, United States
ROOM: Summer Reading Kickoff Event!
DESCRIPTION:🐍📚 Kick off summer reading with us as we explore the fas
 cinating world of reptiles with Oscar’s Reptile Encounters, you’ll eve
 n get to see some up close! 🦎We’ll also have the Novel Brew Coffee Tr
 uck on site with coffee and sweet treats available for purchase. ☕🍪Re
 gistration opens Monday, May 18th at 10 AM. We can’t wait to see you th
 ere!
URL:https://plumlib.librarycalendar.com/event/summer-reading-kickoff-event
 -12335
END:VEVENT
END:VCALENDAR
