BEGIN:VCALENDAR
VERSION:2.0
PRODID:-//Library Market//iCal Export//EN
BEGIN:VEVENT
SUMMARY:Play Classic Board Games, Learn Something New!
UID:11308
DTSTAMP:20260422T130500Z
DTSTART:20260530T170000Z
DTEND:20260530T183000Z
LOCATION:445 Center New Texas Rd, Pittsburgh, PA 15239, United States
ROOM: Program Room
DESCRIPTION:Calling all board game fans old and new, stop by to play some 
 classic board games or learn a new one! We&#039;ll be learning and playing
  the 2-4 player game Splendor for those interested. Stop by even if you kn
 ow how to play!Registration is required.
URL:https://plumlib.librarycalendar.com/event/classic-board-game-competiti
 on-11308
END:VEVENT
END:VCALENDAR
